BEGIN:VCALENDAR
VERSION:2.0
PRODID:-//Niceville Strong - ECPv6.15.20//NONSGML v1.0//EN
CALSCALE:GREGORIAN
METHOD:PUBLISH
X-WR-CALNAME:Niceville Strong
X-ORIGINAL-URL:https://nicevillestrong.com
X-WR-CALDESC:Events for Niceville Strong
REFRESH-INTERVAL;VALUE=DURATION:PT1H
X-Robots-Tag:noindex
X-PUBLISHED-TTL:PT1H
BEGIN:VTIMEZONE
TZID:UTC
BEGIN:STANDARD
TZOFFSETFROM:+0000
TZOFFSETTO:+0000
TZNAME:UTC
DTSTART:20230101T000000
END:STANDARD
END:VTIMEZONE
BEGIN:VEVENT
DTSTART;TZID=UTC:20241013T170000
DTEND;TZID=UTC:20241013T220000
DTSTAMP:20260425T165752
CREATED:20240703T174301Z
LAST-MODIFIED:20240907T173531Z
UID:1241-1728838800-1728856800@nicevillestrong.com
SUMMARY:Niceville Strong 2024
DESCRIPTION:October 13\, 2024\n\n\n\nDoors open at 5pm with\n\n\n\nvendors & refreshments.\n\n\n\nEvent begins at 6pm.\n\n\n\n\n\n\n\nJoin the movement that generates hope and awareness in the fight againstdrug & alcohol addiction\, mental illness\, violence\, and suicide.\n\n\n\n\n\n\n\n\n\n\n\n\n\n(event end time is open)
URL:https://nicevillestrong.com/event/niceville-strong-2024/
ATTACH;FMTTYPE=image/png:https://nicevillestrong.com/wp-content/uploads/2024/07/Updated-Niceville-Strong-2024-1.png
END:VEVENT
END:VCALENDAR